BEGIN:VCALENDAR
VERSION:2.0
PRODID:-//Arete Preparatory School - ECPv4.6.11//NONSGML v1.0//EN
CALSCALE:GREGORIAN
METHOD:PUBLISH
X-WR-CALNAME:Arete Preparatory School
X-ORIGINAL-URL:https://www.areteprepschool.org
X-WR-CALDESC:Events for Arete Preparatory School
BEGIN:VEVENT
DTSTART;VALUE=DATE:20200521
DTEND;VALUE=DATE:20200522
DTSTAMP:20260425T164011
CREATED:20191016T153921Z
LAST-MODIFIED:20191016T153921Z
UID:2409-1590019200-1590105599@www.areteprepschool.org
SUMMARY:Last day of school; Close at 12pm
DESCRIPTION:
URL:https://www.areteprepschool.org/event/last-day-of-school-close-at-12pm-3/
END:VEVENT
END:VCALENDAR