BEGIN:VCALENDAR
VERSION:2.0
PRODID:-//Arete Preparatory School - ECPv4.6.11//NONSGML v1.0//EN
CALSCALE:GREGORIAN
METHOD:PUBLISH
X-WR-CALNAME:Arete Preparatory School
X-ORIGINAL-URL:https://www.areteprepschool.org
X-WR-CALDESC:Events for Arete Preparatory School
BEGIN:VEVENT
DTSTART;VALUE=DATE:20200106
DTEND;VALUE=DATE:20200107
DTSTAMP:20260425T234436
CREATED:20191016T152804Z
LAST-MODIFIED:20191016T152804Z
UID:2399-1578268800-1578355199@www.areteprepschool.org
SUMMARY:School Re-opens
DESCRIPTION:
URL:https://www.areteprepschool.org/event/school-re-opens-3/
END:VEVENT
END:VCALENDAR