BEGIN:VCALENDAR
VERSION:2.0
PRODID:-//Arete Preparatory School - ECPv4.6.11//NONSGML v1.0//EN
CALSCALE:GREGORIAN
METHOD:PUBLISH
X-WR-CALNAME:Arete Preparatory School
X-ORIGINAL-URL:https://www.areteprepschool.org
X-WR-CALDESC:Events for Arete Preparatory School
BEGIN:VEVENT
DTSTART;VALUE=DATE:20210105
DTEND;VALUE=DATE:20210106
DTSTAMP:20260421T140813
CREATED:20200618T171534Z
LAST-MODIFIED:20200618T171534Z
UID:2719-1609804800-1609891199@www.areteprepschool.org
SUMMARY:School Re-opens
DESCRIPTION:
URL:https://www.areteprepschool.org/event/school-re-opens-4/
END:VEVENT
END:VCALENDAR