BEGIN:VCALENDAR
VERSION:2.0
PRODID:-//Arete Preparatory School - ECPv4.6.11//NONSGML v1.0//EN
CALSCALE:GREGORIAN
METHOD:PUBLISH
X-WR-CALNAME:Arete Preparatory School
X-ORIGINAL-URL:https://www.areteprepschool.org
X-WR-CALDESC:Events for Arete Preparatory School
BEGIN:VEVENT
DTSTART;TZID=UTC+0:20200214T080000
DTEND;TZID=UTC+0:20200217T170000
DTSTAMP:20260425T202101
CREATED:20191016T153154Z
LAST-MODIFIED:20191016T153154Z
UID:2403-1581667200-1581958800@www.areteprepschool.org
SUMMARY:Winter Break
DESCRIPTION:
URL:https://www.areteprepschool.org/event/winter-break-3/
LOCATION:3072 Evans Mill Rd.\, Lithonia\, GA\, 30038\, United States
END:VEVENT
END:VCALENDAR