BEGIN:VCALENDAR
VERSION:2.0
PRODID:-//Arete Preparatory School - ECPv4.6.11//NONSGML v1.0//EN
CALSCALE:GREGORIAN
METHOD:PUBLISH
X-WR-CALNAME:Arete Preparatory School
X-ORIGINAL-URL:https://www.areteprepschool.org
X-WR-CALDESC:Events for Arete Preparatory School
BEGIN:VEVENT
DTSTART;VALUE=DATE:20191223
DTEND;VALUE=DATE:20200107
DTSTAMP:20260426T030552
CREATED:20191016T152315Z
LAST-MODIFIED:20191016T152947Z
UID:2392-1577059200-1578355199@www.areteprepschool.org
SUMMARY:Winter Break
DESCRIPTION:Winter Break \nKindergarten- 5th grade(School Closed). \nK-3/k-4 here on 23-24 \nDecember 24. is a Half day. Dismissal is at 12pm. \nK-3/K-4 Return December 27-31 \nDecember 31 half day \n  \n
URL:https://www.areteprepschool.org/event/winter-break-holiday-begins/
LOCATION:3072 Evans Mill Rd.\, Lithonia\, GA\, 30038\, United States
END:VEVENT
END:VCALENDAR