BEGIN:VCALENDAR
VERSION:2.0
PRODID:-//Arete Preparatory School - ECPv4.6.11//NONSGML v1.0//EN
CALSCALE:GREGORIAN
METHOD:PUBLISH
X-WR-CALNAME:Arete Preparatory School
X-ORIGINAL-URL:https://www.areteprepschool.org
X-WR-CALDESC:Events for Arete Preparatory School
BEGIN:VEVENT
DTSTART;VALUE=DATE:20200313
DTEND;VALUE=DATE:20200314
DTSTAMP:20260425T233533
CREATED:20191016T153243Z
LAST-MODIFIED:20191016T153243Z
UID:2405-1584057600-1584143999@www.areteprepschool.org
SUMMARY:School closed- Staff Development Day
DESCRIPTION:
URL:https://www.areteprepschool.org/event/school-closed-staff-development-day-3/
LOCATION:3072 Evans Mill Rd.\, Lithonia\, GA\, 30038\, United States
END:VEVENT
END:VCALENDAR