BEGIN:VCALENDAR
VERSION:2.0
PRODID:-//Arete Preparatory School - ECPv4.6.11//NONSGML v1.0//EN
CALSCALE:GREGORIAN
METHOD:PUBLISH
X-WR-CALNAME:Arete Preparatory School
X-ORIGINAL-URL:https://www.areteprepschool.org
X-WR-CALDESC:Events for Arete Preparatory School
BEGIN:VEVENT
DTSTART;VALUE=DATE:20200608
DTEND;VALUE=DATE:20200718
DTSTAMP:20260425T164730
CREATED:20200618T172000Z
LAST-MODIFIED:20200618T172000Z
UID:2730-1591574400-1595030399@www.areteprepschool.org
SUMMARY:Summer Enrichment Program
DESCRIPTION:
URL:https://www.areteprepschool.org/event/summer-enrichment-program/
END:VEVENT
END:VCALENDAR