BEGIN:VCALENDAR
VERSION:2.0
PRODID:-//Arete Preparatory School - ECPv4.6.11//NONSGML v1.0//EN
CALSCALE:GREGORIAN
METHOD:PUBLISH
X-WR-CALNAME:Arete Preparatory School
X-ORIGINAL-URL:https://www.areteprepschool.org
X-WR-CALDESC:Events for Arete Preparatory School
BEGIN:VEVENT
DTSTART;VALUE=DATE:20200817
DTEND;VALUE=DATE:20200818
DTSTAMP:20260425T145854
CREATED:20200618T170703Z
LAST-MODIFIED:20200714T192544Z
UID:2705-1597622400-1597708799@www.areteprepschool.org
SUMMARY:School Year Begins
DESCRIPTION:
URL:https://www.areteprepschool.org/event/school-year-begins/
END:VEVENT
END:VCALENDAR