BEGIN:VCALENDAR
VERSION:2.0
PRODID:-//Arete Preparatory School - ECPv4.6.11//NONSGML v1.0//EN
CALSCALE:GREGORIAN
METHOD:PUBLISH
X-WR-CALNAME:Arete Preparatory School
X-ORIGINAL-URL:https://www.areteprepschool.org
X-WR-CALDESC:Events for Arete Preparatory School
BEGIN:VEVENT
DTSTART;TZID=UTC+0:20201221T080000
DTEND;TZID=UTC+0:20210104T170000
DTSTAMP:20260425T020633
CREATED:20200618T171435Z
LAST-MODIFIED:20200618T171435Z
UID:2715-1608537600-1609779600@www.areteprepschool.org
SUMMARY:Winter Break
DESCRIPTION:kindergarten-5th grade(School Closed) \nk-3/k-4 here on December 21st-Decemeber 24th \nDec 24 is a Half day. Dismissal is at 12pm \nk-3/k-4 Return Dec 28-31 \nDecember 31st half day \nDismissal at 12pm \n  \n
URL:https://www.areteprepschool.org/event/winter-break-4/
END:VEVENT
END:VCALENDAR